BEGIN:VCALENDAR
VERSION:2.0
PRODID:-//ChamberMaster//Event Calendar 2.0//EN
METHOD:PUBLISH
X-PUBLISHED-TTL:P3D
REFRESH-INTERVAL:P3D
CALSCALE:GREGORIAN
BEGIN:VEVENT
DTSTART:20250116T173000Z
DTEND:20250116T183000Z
X-MICROSOFT-CDO-ALLDAYEVENT:FALSE
SUMMARY:Gulf Breeze Area Chamber's Networking's A Breeze
DESCRIPTION:Join us for this month's Networking's A Breeze luncheon\, Hampton Inn\, Gulf Breeze. This event is a lightly structured networking opportunity featuring a format that is ideal for building relationships. The event generally draws 20-25 attendees\, has a loyal following and is continuing to grow in popularity.  Thank you to our Sponsor Rowe's Moving
X-ALT-DESC;FMTTYPE=text/html:Join us for this month&#39\;s&nbsp\;Networking&#39\;s A Breeze luncheon\, Hampton Inn\, Gulf Breeze. This event is a lightly structured networking opportunity featuring a format that is ideal for building relationships. The event generally draws 20-25 attendees\, has a loyal following and is continuing to grow in popularity.&nbsp\; <strong>Thank you to our Sponsor Rowe&#39\;s Moving</strong>
LOCATION:Hampton Gulf Breeze 61 Gulf Breeze Parkway Gulf Breeze\, FL 32561
UID:e.2219.29139
SEQUENCE:3
DTSTAMP:20260419T221702Z
URL:https://business.gulfbreezechamber.com/events/details/gulf-breeze-area-chamber-s-networking-s-a-breeze-12-19-2024-29139
END:VEVENT

END:VCALENDAR
