BEGIN:VCALENDAR
VERSION:2.0
PRODID:-//ChamberMaster//Event Calendar 2.0//EN
METHOD:PUBLISH
X-PUBLISHED-TTL:P3D
REFRESH-INTERVAL:P3D
CALSCALE:GREGORIAN
BEGIN:VEVENT
DTSTART:20230629T220000Z
DTEND:20230630T000000Z
X-MICROSOFT-CDO-ALLDAYEVENT:FALSE
SUMMARY:Gulf Breeze Chamber Business After Hours
DESCRIPTION:Drinks and light hor d'oeuvres.  Sponsor is CADENCE BANK  Hosted with  the Greater Pensacola Chamber
X-ALT-DESC;FMTTYPE=text/html:Drinks and light hor d&#39\;oeuvres.&nbsp\; Sponsor is CADENCE BANK&nbsp\; Hosted with&nbsp\; the Greater Pensacola Chamber
LOCATION:
UID:e.2219.28458
SEQUENCE:3
DTSTAMP:20260421T120751Z
URL:https://business.gulfbreezechamber.com/events/details/gulf-breeze-chamber-business-after-hours-06-22-2023-28458
END:VEVENT

END:VCALENDAR
