BEGIN:VCALENDAR
VERSION:2.0
PRODID:-//ChamberMaster//Event Calendar 2.0//EN
METHOD:PUBLISH
X-PUBLISHED-TTL:P3D
REFRESH-INTERVAL:P3D
CALSCALE:GREGORIAN
BEGIN:VEVENT
DTSTART:20230824T220000Z
DTEND:20230825T000000Z
X-MICROSOFT-CDO-ALLDAYEVENT:FALSE
SUMMARY:Gulf Breeze Chamber Business After Hours
DESCRIPTION:Drinks and light hors d'oeuvres.  Sponsored by Holiday Inn & Suites Gulf Breeze\n\nDoor prizes are welcome!
X-ALT-DESC;FMTTYPE=text/html:Drinks and light hors d&#39\;oeuvres.&nbsp\; Sponsored by<strong><span style="font-size:14px\;"> Holiday Inn &amp\; Suites Gulf Breeze<br />\nDoor prizes are welcome!&nbsp\;</span></strong>
LOCATION:Holiday Inn Express & Suites- Gulf Breeze 50 Daniel Drive\, Gulf Breeze\, FL 32561
UID:e.2219.28460
SEQUENCE:3
DTSTAMP:20260420T042537Z
URL:https://business.gulfbreezechamber.com/events/details/gulf-breeze-chamber-business-after-hours-08-24-2023-28460
END:VEVENT

END:VCALENDAR
