BEGIN:VCALENDAR
VERSION:2.0
PRODID:-//ChamberMaster//Event Calendar 2.0//EN
METHOD:PUBLISH
X-PUBLISHED-TTL:P3D
REFRESH-INTERVAL:P3D
CALSCALE:GREGORIAN
BEGIN:VEVENT
DTSTART:20230928T220000Z
DTEND:20230929T000000Z
X-MICROSOFT-CDO-ALLDAYEVENT:FALSE
SUMMARY:Gulf Breeze Chamber Business After Hours
DESCRIPTION:Drinks and light hor d'oeuvres.  Sponsored by Bamboo Willies  Hosted with Pensacola Beach Chamber
X-ALT-DESC;FMTTYPE=text/html:Drinks and light hor d&#39\;oeuvres.&nbsp\; Sponsored by Bamboo Willies&nbsp\; Hosted with Pensacola Beach Chamber
LOCATION:400 Quietwater Beach Rd. Suite 14 Pensacola Beach\, FL 32561
UID:e.2219.28461
SEQUENCE:3
DTSTAMP:20260420T002226Z
URL:https://business.gulfbreezechamber.com/events/details/gulf-breeze-chamber-business-after-hours-09-28-2023-28461
END:VEVENT

END:VCALENDAR
