BEGIN:VCALENDAR
VERSION:2.0
PRODID:-//ChamberMaster//Event Calendar 2.0//EN
METHOD:PUBLISH
X-PUBLISHED-TTL:P3D
REFRESH-INTERVAL:P3D
CALSCALE:GREGORIAN
BEGIN:VEVENT
DTSTART:20230505T160000Z
DTEND:20230505T173000Z
X-MICROSOFT-CDO-ALLDAYEVENT:FALSE
SUMMARY:Gulf Breeze Pools & Spas Open House and Ribbon Cutting
DESCRIPTION:Open House and Ribbon Cutting
X-ALT-DESC;FMTTYPE=text/html:Open House and Ribbon Cutting
LOCATION:4274 Gulf Breeze Parkway
UID:e.2219.28669
SEQUENCE:3
DTSTAMP:20260421T120528Z
URL:https://business.gulfbreezechamber.com/events/details/gulf-breeze-pools-spas-open-house-and-ribbon-cutting-28669
END:VEVENT

END:VCALENDAR
