BEGIN:VCALENDAR
VERSION:2.0
PRODID:-//ChamberMaster//Event Calendar 2.0//EN
METHOD:PUBLISH
X-PUBLISHED-TTL:P3D
REFRESH-INTERVAL:P3D
CALSCALE:GREGORIAN
BEGIN:VEVENT
DTSTART:20230719T140000Z
DTEND:20230719T151500Z
X-MICROSOFT-CDO-ALLDAYEVENT:FALSE
SUMMARY:Hiring Employees - HR as a Competitive Advantage
DESCRIPTION:Are you ready to hire your first employee or expand your existing team? Learn to do it the right way! In this workshop\, you will learn about how to properly and legally hire employees and important practices and principles of leveraging your team to gain a competitive edge! Topics include:\n\n	Small Business Compliance - What You Need to Know!\n	Recruitment and Talent Management Best Practices\n	Tips for Better Training\n	Leveraging Systems to Improve Efficiencies\, Productivity\, and Lower Costs!\n\nYou'll walk away with a better understanding of how to recruit\, hire\, and train the best!  \n\nSpeaker: Philip Carillo\, MBA\, SHRM-CP\, is the Director of HR Services for empact hr\, a division of Crescent. No fee. To register\, visit sbdc.uwf.edu and open "Training & Events".  Sponsored Cadence Bank and Wells Fargo.
X-ALT-DESC;FMTTYPE=text/html:<span style="background-color:rgb(255\, 255\, 255)\; color:rgb(60\, 64\, 67)\; font-family:roboto\,arial\,sans-serif\; font-size:14px">Are you ready to hire your first employee or expand your existing team? Learn to do it the right way! In this workshop\, you will learn about how to properly and legally hire employees and important practices and principles of leveraging your team to gain a competitive edge! Topics include:</span>\n<ul>\n	<li>Small Business Compliance - What You Need to Know!</li>\n	<li>Recruitment and Talent Management Best Practices</li>\n	<li>Tips for Better Training</li>\n	<li>Leveraging Systems to Improve Efficiencies\, Productivity\, and Lower Costs!</li>\n</ul>\n<span style="background-color:rgb(255\, 255\, 255)\; color:rgb(60\, 64\, 67)\; font-family:roboto\,arial\,sans-serif\; font-size:14px">You&#39\;ll walk away with a better understanding of how to recruit\, hire\, and train the best!&nbsp\;&nbsp\;</span><br />\n<em>Speaker: Philip Carillo\, MBA\, SHRM-CP\, is the Director of HR Services for empact hr\, a division of Crescent.&nbsp\;</em><span style="color:#3C4043"><span style="font-family:calibri\,sans-serif"><span style="font-size:12.0pt">No fee. </span></span></span><span style="font-family:calibri\,sans-serif"><span style="font-size:12pt">To register\, visit sbdc.uwf.edu and open &ldquo\;Training &amp\; Events&rdquo\;. &nbsp\;</span></span><span style="color:#222222"><span style="font-family:calibri\,sans-serif"><span style="font-size:12.0pt">Sponsored Cadence Bank and Wells Fargo.</span></span></span>
LOCATION:Online
UID:e.2219.28759
SEQUENCE:3
DTSTAMP:20260420T055507Z
URL:https://business.gulfbreezechamber.com/events/details/hiring-employees-hr-as-a-competitive-advantage-28759
END:VEVENT

END:VCALENDAR
