BEGIN:VCALENDAR
VERSION:2.0
PRODID:-//ChamberMaster//Event Calendar 2.0//EN
METHOD:PUBLISH
X-PUBLISHED-TTL:P3D
REFRESH-INTERVAL:P3D
CALSCALE:GREGORIAN
BEGIN:VEVENT
DTSTART:20241223T180000Z
DTEND:20241223T220000Z
X-MICROSOFT-CDO-ALLDAYEVENT:FALSE
SUMMARY:Holiday Movie: Home Alone Movie Marathon
DESCRIPTION:Step into the wonder of the season and join us at Laguna's for a jolly holiday movie lineup that's sure to bring smiles to every face\, young and young-at-heart! Get ready to laugh\, dream\, and make magical memories with some of our favorite holiday classics. FREE Event for all ages.\n\nHoliday Movie Schedule:\n\n\n	Dec. 20 @ 3 PM: The Grinch\n	Dec. 23 @ 12 PM: Home Alone Movie Marathon            \n\n	             *Home Alone\n\n	             *Home Alone 2\n	Dec. 24 @ 12 PM: The Polar Express\n\n\nMovie Snacks & Treats\n\nWarm up with hot chocolate\, roast s'mores by the fire\, and enjoy popcorn\, plus happy hour specials and more! *Food and beverages are available for purchase.\n\nIt's the season for making memories! Bring your family and friends\, settle in for some holiday cheer\, and let the magic of the movies fill your heart.\n\nVIEW ALL HOLIDAY HAPPENINGS: https://pimg.fyi/lagunas-holiday-fun-info
X-ALT-DESC;FMTTYPE=text/html:<p>Step into the wonder of the season and join us at Laguna&#39\;s for a jolly holiday movie lineup that&rsquo\;s sure to bring smiles to every face\, young and young-at-heart! Get ready to laugh\, dream\, and make magical memories with some of our favorite holiday classics.&nbsp\;<strong>FREE</strong>&nbsp\;Event for all ages.</p>\n\n<p><strong>Holiday Movie Schedule:</strong></p>\n\n<ul>\n	<li>Dec. 20 @ 3 PM: The Grinch</li>\n	<li>Dec. 23 @ 12 PM: Home Alone Movie Marathon &nbsp\; &nbsp\; &nbsp\; &nbsp\; &nbsp\; &nbsp\;<br />\n	&nbsp\; &nbsp\; &nbsp\; &nbsp\; &nbsp\; &nbsp\; &nbsp\;*Home Alone<br />\n	&nbsp\; &nbsp\; &nbsp\; &nbsp\; &nbsp\; &nbsp\; &nbsp\;*Home Alone 2</li>\n	<li>Dec. 24 @ 12 PM: The Polar Express</li>\n</ul>\n\n<p><strong>Movie Snacks &amp\; Treats</strong></p>\n\n<p>Warm up with hot chocolate\, roast s&rsquo\;mores by the fire\, and enjoy popcorn\, plus happy hour specials and more!&nbsp\;<em>*Food and beverages are available for purchase.</em></p>\n\n<p>It&rsquo\;s the season for making memories! Bring your family and friends\, settle in for some holiday cheer\, and let the magic of the movies fill your heart.</p>\n\n<p><strong>VIEW ALL HOLIDAY HAPPENINGS:</strong>&nbsp\;<a href="https://pimg.fyi/lagunas-holiday-fun-info" style="user-select: auto\;">https://pimg.fyi/lagunas-holiday-fun-info</a></p>\n
LOCATION:
UID:e.2219.30352
SEQUENCE:3
DTSTAMP:20260420T022758Z
URL:https://business.gulfbreezechamber.com/events/details/holiday-movie-home-alone-movie-marathon-30352
END:VEVENT

END:VCALENDAR
