BEGIN:VCALENDAR
VERSION:2.0
PRODID:-//ChamberMaster//Event Calendar 2.0//EN
METHOD:PUBLISH
X-PUBLISHED-TTL:P3D
REFRESH-INTERVAL:P3D
CALSCALE:GREGORIAN
BEGIN:VEVENT
DTSTART:20240810T190000Z
DTEND:20240810T230000Z
X-MICROSOFT-CDO-ALLDAYEVENT:FALSE
SUMMARY:Hollywood Vegabonds performing LIVE at Bamboo Willie's!
DESCRIPTION:Nappie Award-winning band\, Hollywood Vagabonds\, is a high-energy rock band.
X-ALT-DESC;FMTTYPE=text/html:&nbsp\;&nbsp\;&nbsp\;&nbsp\;&nbsp\;&nbsp\;&nbsp\;&nbsp\;&nbsp\;&nbsp\;&nbsp\;&nbsp\;&nbsp\;&nbsp\;&nbsp\; <span style="color:#050505"><span style="font-family:segoe ui historic\,sans-serif"><span style="font-size:11.5pt">Nappie Award-winning band\, Hollywood Vagabonds\, is a high-energy rock band.</span></span></span>
LOCATION:
UID:e.2219.30073
SEQUENCE:3
DTSTAMP:20260419T134521Z
URL:https://business.gulfbreezechamber.com/events/details/hollywood-vegabonds-performing-live-at-bamboo-willie-s-30073
END:VEVENT

END:VCALENDAR
