BEGIN:VCALENDAR
VERSION:2.0
PRODID:-//ChamberMaster//Event Calendar 2.0//EN
METHOD:PUBLISH
X-PUBLISHED-TTL:P3D
REFRESH-INTERVAL:P3D
CALSCALE:GREGORIAN
BEGIN:VEVENT
DTSTART:20250503T010000Z
DTEND:20250503T060000Z
X-MICROSOFT-CDO-ALLDAYEVENT:FALSE
SUMMARY:INZO at Laguna's
DESCRIPTION:Pensacola Beach! The one and only INZO hits the stage at Laguna's Beach Bar on May 2nd.\n\nBUY TICKETS: https://pimg.fyi/lagunas-inzo-may2-tix\n\n\n\nMust be 18+ to attend.
X-ALT-DESC;FMTTYPE=text/html:<span style="color:rgb(0\, 0\, 0)\; font-family:montserrat\,sans-serif\; font-size:11pt">Pensacola Beach! The one and only INZO hits the stage at Laguna&rsquo\;s Beach Bar on May 2nd.</span><br />\n<strong>BUY TICKETS:</strong><span style="color:rgb(0\, 0\, 0)\; font-family:montserrat\,sans-serif\; font-size:11pt">&nbsp\;</span><a href="https://pimg.fyi/lagunas-inzo-may2-tix" style="text-decoration-line: none\;"><span style="background-color:transparent\; color:rgb(17\, 85\, 204)\; font-family:montserrat\,sans-serif\; font-size:11pt">https://pimg.fyi/lagunas-inzo-may2-tix</span></a><br />\n<br />\n<em><span style="color:rgb(0\, 0\, 0)\; font-family:montserrat\,sans-serif\; font-size:14.6667px">Must be 18+ to attend.</span></em>
LOCATION:
UID:e.2219.31176
SEQUENCE:3
DTSTAMP:20260419T134338Z
URL:https://business.gulfbreezechamber.com/events/details/inzo-at-laguna-s-31176
END:VEVENT

END:VCALENDAR
