BEGIN:VCALENDAR
VERSION:2.0
PRODID:-//ChamberMaster//Event Calendar 2.0//EN
METHOD:PUBLISH
X-PUBLISHED-TTL:P3D
REFRESH-INTERVAL:P3D
CALSCALE:GREGORIAN
BEGIN:VEVENT
DTSTART:20230801T190000Z
DTEND:20230801T230000Z
X-MICROSOFT-CDO-ALLDAYEVENT:FALSE
SUMMARY:Jason Crysell performing LIVE at Bamboo Willie’s!
DESCRIPTION:Jason Crysell performing LIVE at Bamboo Willie's!
X-ALT-DESC;FMTTYPE=text/html:<span style="font-family:calibri\,sans-serif"><span style="font-size:11.0pt">Jason Crysell performing LIVE at Bamboo Willie&rsquo\;s!</span></span>
LOCATION:Bamboo Willie's
UID:e.2219.28991
SEQUENCE:3
DTSTAMP:20260420T022321Z
URL:https://business.gulfbreezechamber.com/events/details/jason-crysell-performing-live-at-bamboo-willie-s-28991
END:VEVENT

END:VCALENDAR
