BEGIN:VCALENDAR
VERSION:2.0
PRODID:-//ChamberMaster//Event Calendar 2.0//EN
METHOD:PUBLISH
X-PUBLISHED-TTL:P3D
REFRESH-INTERVAL:P3D
CALSCALE:GREGORIAN
BEGIN:VEVENT
DTSTART:20230602T010000Z
DTEND:20230602T045500Z
X-MICROSOFT-CDO-ALLDAYEVENT:FALSE
SUMMARY:Jay Williams Band LIVE at Bamboo Willie's!
DESCRIPTION:High Energy RocknRoll\, Country-Funk Party Band! Get your dancing on with the JWB!
X-ALT-DESC;FMTTYPE=text/html:<span style="color:rgb(5\, 5\, 5)\; font-family:segoe ui historic\,segoe ui\,helvetica\,arial\,sans-serif\; font-size:15px">High Energy RocknRoll\, Country-Funk Party Band! Get your dancing on with the JWB!</span>
LOCATION:Bamboo Willie's
UID:e.2219.28737
SEQUENCE:3
DTSTAMP:20260421T120457Z
URL:https://business.gulfbreezechamber.com/events/details/jay-williams-band-live-at-bamboo-willie-s-06-01-2023-28737
END:VEVENT

END:VCALENDAR
