BEGIN:VCALENDAR
VERSION:2.0
PRODID:-//ChamberMaster//Event Calendar 2.0//EN
METHOD:PUBLISH
X-PUBLISHED-TTL:P3D
REFRESH-INTERVAL:P3D
CALSCALE:GREGORIAN
BEGIN:VEVENT
DTSTART:20230704T190000Z
DTEND:20230704T230000Z
X-MICROSOFT-CDO-ALLDAYEVENT:FALSE
SUMMARY:Jay Williams Band performing LIVE at Bamboo Willie’s!
DESCRIPTION:Jay Williams Band performing LIVE at Bamboo Willie's!
X-ALT-DESC;FMTTYPE=text/html:Jay Williams Band performing LIVE at Bamboo Willie&rsquo\;s!
LOCATION:Bamboo Willie's
UID:e.2219.28770
SEQUENCE:3
DTSTAMP:20260420T042236Z
URL:https://business.gulfbreezechamber.com/events/details/jay-williams-band-performing-live-at-bamboo-willie-s-07-04-2023-28770
END:VEVENT

END:VCALENDAR
