BEGIN:VCALENDAR
VERSION:2.0
PRODID:-//ChamberMaster//Event Calendar 2.0//EN
METHOD:PUBLISH
X-PUBLISHED-TTL:P3D
REFRESH-INTERVAL:P3D
CALSCALE:GREGORIAN
BEGIN:VEVENT
DTSTART:20240809T000000Z
DTEND:20240809T040000Z
X-MICROSOFT-CDO-ALLDAYEVENT:FALSE
SUMMARY:Jay Williams Band performing LIVE at Bamboo Willie’s!
DESCRIPTION:High energy rock n roll\, country-funk party band!
X-ALT-DESC;FMTTYPE=text/html:&nbsp\;&nbsp\;&nbsp\;&nbsp\;&nbsp\;&nbsp\;&nbsp\;&nbsp\;&nbsp\;&nbsp\;&nbsp\;&nbsp\;&nbsp\;&nbsp\;&nbsp\; High energy rock n roll\, country-funk party band!
LOCATION:
UID:e.2219.30070
SEQUENCE:3
DTSTAMP:20260419T134522Z
URL:https://business.gulfbreezechamber.com/events/details/jay-williams-band-performing-live-at-bamboo-willie-s-08-08-2024-30070
END:VEVENT

END:VCALENDAR
