BEGIN:VCALENDAR
VERSION:2.0
PRODID:-//ChamberMaster//Event Calendar 2.0//EN
METHOD:PUBLISH
X-PUBLISHED-TTL:P3D
REFRESH-INTERVAL:P3D
CALSCALE:GREGORIAN
BEGIN:VEVENT
DTSTART:20230805T180000Z
DTEND:20230805T220000Z
X-MICROSOFT-CDO-ALLDAYEVENT:FALSE
SUMMARY:Johnny Hayes at Laguna's
DESCRIPTION:Get ready to groove to the tunes of Johnny Hayes! He's a Laguna's favorite and we're excited to welcome him back again this season. His performances are always a vibe.\n\n\n\nSaturday\, August 5th   1PM - 5PM\n\nFriday\, August 11th   1PM - 5PM\n\nSaturday\, August 19th   1PM - 5PM\n\nSaturday\, August 26th   1PM - 5PM\n\n\n\nLEARN MORE: https://www.facebook.com/events/783161173241474/783163156574609
X-ALT-DESC;FMTTYPE=text/html:<span style="color:rgb(5\, 5\, 5)\; font-family:segoe ui historic\,segoe ui\,helvetica\,arial\,sans-serif\; font-size:15px">Get ready to groove to the tunes of Johnny Hayes! He&#39\;s a Laguna&#39\;s favorite and we&#39\;re excited to welcome him back again this season. His performances are always a vibe.<br />\n<br />\nSaturday\, August 5th &bull\; 1PM - 5PM<br />\nFriday\, August 11th &bull\; 1PM - 5PM<br />\nSaturday\, August 19th &bull\; 1PM - 5PM<br />\nSaturday\, August 26th &bull\; 1PM - 5PM<br />\n<br />\nLEARN MORE:&nbsp\;</span><a href="https://www.facebook.com/events/783161173241474/783163156574609">https://www.facebook.com/events/783161173241474/783163156574609</a>
LOCATION:460 Pensacola Beach Blvd Pensacola Beach\, FL 32534
UID:e.2219.28986
SEQUENCE:3
DTSTAMP:20260420T022202Z
URL:https://business.gulfbreezechamber.com/events/details/johnny-hayes-at-laguna-s-28986
END:VEVENT

END:VCALENDAR
