BEGIN:VCALENDAR
VERSION:2.0
PRODID:-//ChamberMaster//Event Calendar 2.0//EN
METHOD:PUBLISH
X-PUBLISHED-TTL:P3D
REFRESH-INTERVAL:P3D
CALSCALE:GREGORIAN
BEGIN:VEVENT
DTSTART:20230415T143000Z
DTEND:20230415T170000Z
X-MICROSOFT-CDO-ALLDAYEVENT:FALSE
SUMMARY:Join Us in the Gardens
DESCRIPTION:GROWING FRUIT TREES with SRC Extension agent Josh Criss\n\nCitrus\, figs\, blueberries\, pears\, pomegranates & more! Adding fruitproducing\n\ntrees & shrubs gives us the bonus of a beautiful landscape\n\n& fresh fruit! Josh will explain which fruit trees will grow & thrive in our\n\narea and how to landscape\, plant\, & care for them.\n\nGARDENING WITH HERBS with Emily Peterson\n\nHerbs can add interest to any landscape by adding texture\,\n\nfragrance\, & taste. Adding to their usefulness as culinary & medicinal\n\nplants\, herbs can be host plants for butterflies or act as repellants to\n\nother insects. Most herbs like our sandy soils & are easily grown in\n\nthe ground or thrive in containers. Join us to learn about these\n\nfascinating plants & how to incorporate them into your landscape.
X-ALT-DESC;FMTTYPE=text/html:GROWING FRUIT TREES with SRC Extension agent Josh Criss<br />\nCitrus\, figs\, blueberries\, pears\, pomegranates&mdash\;&amp\; more! Adding fruitproducing<br />\ntrees &amp\; shrubs gives us the bonus of a beautiful landscape<br />\n&amp\; fresh fruit! Josh will explain which fruit trees will grow &amp\; thrive in our<br />\narea and how to landscape\, plant\, &amp\; care for them.<br />\nGARDENING WITH HERBS with Emily Peterson<br />\nHerbs can add interest to any landscape by adding texture\,<br />\nfragrance\, &amp\; taste. Adding to their usefulness as culinary &amp\; medicinal<br />\nplants\, herbs can be host plants for butterflies or act as repellants to<br />\nother insects. Most herbs like our sandy soils &amp\; are easily grown in<br />\nthe ground or thrive in containers. Join us to learn about these<br />\nfascinating plants &amp\; how to incorporate them into your landscape.
LOCATION:3268 Fordham Parkway | Gulf Breeze
UID:e.2219.28668
SEQUENCE:3
DTSTAMP:20260421T084801Z
URL:https://business.gulfbreezechamber.com/events/details/join-us-in-the-gardens-28668
END:VEVENT

END:VCALENDAR
