BEGIN:VCALENDAR
VERSION:2.0
PRODID:-//ChamberMaster//Event Calendar 2.0//EN
METHOD:PUBLISH
X-PUBLISHED-TTL:P3D
REFRESH-INTERVAL:P3D
CALSCALE:GREGORIAN
BEGIN:VEVENT
DTSTART:20230701T190000Z
DTEND:20230701T230000Z
X-MICROSOFT-CDO-ALLDAYEVENT:FALSE
SUMMARY:Jordan Richards with Panzacola performing LIVE at Bamboo Willie’s!
DESCRIPTION:Jordan/Nathan/Sean\n\nPsych-Rock from the Florida panhandle ??????
X-ALT-DESC;FMTTYPE=text/html:<span style="color:#050505"><span style="font-family:segoe ui historic\,sans-serif"><span style="font-size:11.5pt">Jordan/Nathan/Sean</span></span></span><br />\n<span style="color:#050505"><span style="font-family:segoe ui historic\,sans-serif"><span style="font-size:11.5pt">Psych-Rock from the Florida panhandle </span></span></span><span style="color:#050505"><span style="font-family:segoe ui symbol\,sans-serif"><span style="font-size:11.5pt">??????</span></span></span>
LOCATION:Bamboo Willie's
UID:e.2219.28766
SEQUENCE:3
DTSTAMP:20260420T042524Z
URL:https://business.gulfbreezechamber.com/events/details/jordan-richards-with-panzacola-performing-live-at-bamboo-willie-s-07-01-2023-28766
END:VEVENT

END:VCALENDAR
