BEGIN:VCALENDAR
VERSION:2.0
PRODID:-//ChamberMaster//Event Calendar 2.0//EN
METHOD:PUBLISH
X-PUBLISHED-TTL:P3D
REFRESH-INTERVAL:P3D
CALSCALE:GREGORIAN
BEGIN:VEVENT
DTSTART:20230720T130000Z
DTEND:20230720T210000Z
X-MICROSOFT-CDO-ALLDAYEVENT:FALSE
SUMMARY:July PSC Nonprofit Center Training: Development & Fundraising
DESCRIPTION:A full-day nonprofit training from 8 AM to 4 PM covering the topic of Development and Fundraising\, led by Michelle Buchanan. $50 registration fee for non-members\, half-price for members.
X-ALT-DESC;FMTTYPE=text/html:A full-day nonprofit training from 8 AM to 4 PM covering the topic of Development and Fundraising\, led by Michelle Buchanan. $50 registration fee for non-members\, half-price for members.
LOCATION:1000 College Blvd.\, Bldg. 17\, Pensacola\, FL 32504
UID:e.2219.28713
SEQUENCE:3
DTSTAMP:20260420T041849Z
URL:https://business.gulfbreezechamber.com/events/details/july-psc-nonprofit-center-training-development-fundraising-28713
END:VEVENT

END:VCALENDAR
