BEGIN:VCALENDAR
VERSION:2.0
PRODID:-//ChamberMaster//Event Calendar 2.0//EN
METHOD:PUBLISH
X-PUBLISHED-TTL:P3D
REFRESH-INTERVAL:P3D
CALSCALE:GREGORIAN
BEGIN:VEVENT
DTSTART:20230601T170000Z
DTEND:20230601T220000Z
X-MICROSOFT-CDO-ALLDAYEVENT:FALSE
SUMMARY:June PSC Nonprofit Center Training: Honoring Public Trust
DESCRIPTION:A half-day workshop from 8 AM to 12 PM covering the topic of Honoring Public Trust\, led by Andrea Krieger. $30 registration fee (non-members) or half-price for members\, open to the public.
X-ALT-DESC;FMTTYPE=text/html:A half-day workshop from 8 AM to 12 PM covering the topic of Honoring Public Trust\, led by Andrea Krieger. $30 registration fee (non-members) or half-price for members\, open to the public.
LOCATION:1000 College Blvd.\, Bldg. 17\, Pensacola\, FL 32504
UID:e.2219.28712
SEQUENCE:3
DTSTAMP:20260421T120428Z
URL:https://business.gulfbreezechamber.com/events/details/june-psc-nonprofit-center-training-honoring-public-trust-28712
END:VEVENT

END:VCALENDAR
