BEGIN:VCALENDAR
VERSION:2.0
PRODID:-//ChamberMaster//Event Calendar 2.0//EN
METHOD:PUBLISH
X-PUBLISHED-TTL:P3D
REFRESH-INTERVAL:P3D
CALSCALE:GREGORIAN
BEGIN:VEVENT
DTSTART:20250401T230000Z
DTEND:20250402T000000Z
X-MICROSOFT-CDO-ALLDAYEVENT:FALSE
SUMMARY:Junior Leadership Santa Rosa Information Session
DESCRIPTION:Junior Leadership Santa Rosa   Virtual Information Session  \n\nAre you the parent of a high school student interested in developing leadership skills\, exploring career opportunities\, and engaging with the community? Join us for a virtual information session to learn more about Junior Leadership Santa Rosa   Class 2 and how this program can benefit your student.\n\n  Date: April 1\, 2025\n\n  Time: 6:00 PM CST\n\n  Location: Online via Zoom (registration required)\n\nDuring this session\, Grace Carbaugh\, President/CEO of the Gulf Breeze Area Chamber\, will provide an overview of the program\, including:\n\n   What students can expect from the Junior Leadership Santa Rosa experience\n\n   Program benefits and opportunities for personal and professional growth\n\n   Tips for submitting a strong application\n\n   Live Q&A to address any questions you may have\n\n  Register now to receive the Zoom link\n\nThis is a valuable opportunity to gain insight into the program and ensure your student is well-prepared to apply. We look forward to answering your questions and sharing what makes Junior Leadership Santa Rosa a meaningful experience!
X-ALT-DESC;FMTTYPE=text/html:<p data-end="230" data-start="160">&#128313\; <strong data-end="225" data-start="163">Junior Leadership Santa Rosa &ndash\; Virtual Information Session</strong> &#128313\;</p>\n\n<p data-end="542" data-start="232">Are you the parent of a high school student interested in developing leadership skills\, exploring career opportunities\, and engaging with the community? Join us for a <strong data-end="430" data-start="399">virtual information session</strong> to learn more about <strong data-end="493" data-start="451">Junior Leadership Santa Rosa &ndash\; Class 2</strong> and how this program can benefit your student.</p>\n\n<p data-end="657" data-start="544">&#128197\; <strong data-end="556" data-start="547">Date:</strong> April 1\, 2025<br data-end="573" data-start="570" />\n&#9200\; <strong data-end="584" data-start="575">Time:</strong> 6:00 PM CST<br data-end="599" data-start="596" />\n&#128205\; <strong data-end="615" data-start="602">Location:</strong> Online via Zoom (registration required)</p>\n\n<p data-end="1054" data-start="659">During this session\, <strong data-end="745" data-start="680">Grace Carbaugh\, President/CEO of the Gulf Breeze Area Chamber</strong>\, will provide an overview of the program\, including:<br data-end="801" data-start="798" />\n&#10004\;&#65039\; What students can expect from the Junior Leadership Santa Rosa experience<br data-end="880" data-start="877" />\n&#10004\;&#65039\; Program benefits and opportunities for personal and professional growth<br data-end="957" data-start="954" />\n&#10004\;&#65039\; Tips for submitting a strong application<br data-end="1003" data-start="1000" />\n&#10004\;&#65039\; Live Q&amp\;A to address any questions you may have</p>\n\n<p data-end="1125" data-start="1056">&#128279\; <strong data-end="1101" data-start="1059">Register now to receive the Zoom link</strong></p>\n\n<p data-end="1364" data-start="1127">This is a valuable opportunity to gain insight into the program and ensure your student is well-prepared to apply. We look forward to answering your questions and sharing what makes Junior Leadership Santa Rosa a meaningful experience!</p>\n
LOCATION:Virtual Event
UID:e.2219.30918
SEQUENCE:3
DTSTAMP:20260419T163802Z
URL:https://business.gulfbreezechamber.com/events/details/junior-leadership-santa-rosa-information-session-30918
END:VEVENT

END:VCALENDAR
