BEGIN:VCALENDAR
VERSION:2.0
PRODID:-//ChamberMaster//Event Calendar 2.0//EN
METHOD:PUBLISH
X-PUBLISHED-TTL:P3D
REFRESH-INTERVAL:P3D
CALSCALE:GREGORIAN
BEGIN:VEVENT
DTSTART:20230810T000000Z
DTEND:20230810T020000Z
X-MICROSOFT-CDO-ALLDAYEVENT:FALSE
SUMMARY:Karaoke Night @ Laguna's
DESCRIPTION:Wednesday Night Karaoke at Laguna's!\n\nGather your friends and family\, grab a mic\, and get ready to sing your heart out with host\, Ash Askew\, on the Tiki Deck.\n\nEvery Wednesday night in the summer starting at 7p.
X-ALT-DESC;FMTTYPE=text/html:<p><strong>Wednesday Night Karaoke at Laguna&#39\;s!</strong></p>\n\n<p>Gather your friends and family\, grab a mic\, and get ready to sing your heart out with host\, Ash Askew\, on the Tiki Deck.</p>\n\n<p>Every Wednesday night in the summer starting at 7p.&nbsp\;</p>\n
LOCATION:Laguna's Beach Bar + Grill 460 Pensacola Beach Blvd Pensacola Beach\, FL 32561
UID:e.2219.28751
SEQUENCE:3
DTSTAMP:20260420T022406Z
URL:https://business.gulfbreezechamber.com/events/details/karaoke-night-laguna-s-08-09-2023-28751
END:VEVENT

END:VCALENDAR
