BEGIN:VCALENDAR
VERSION:2.0
PRODID:-//ChamberMaster//Event Calendar 2.0//EN
METHOD:PUBLISH
X-PUBLISHED-TTL:P3D
REFRESH-INTERVAL:P3D
CALSCALE:GREGORIAN
BEGIN:VEVENT
DTSTART;VALUE=DATE:20250601
DTEND;VALUE=DATE:20250602
TRANSP:TRANSPARENT
X-MICROSOFT-CDO-ALLDAYEVENT:TRUE
SUMMARY:Laguna's Graduation Party
DESCRIPTION:Start a NEW graduation tradition at Laguna's! Join us on the Tiki Deck on Sunday\, June 1st\, for live music\, graduate shout-outs and more.\n\n SHOUTOUT YOUR GRADUATE!\n\nCelebrate your graduate on the Big Screen for just \n\n$10 - Includes their name + photo on the Big Screen.\n\n Email your submission to: tiffanys@premierisland.com\n\n* Payment details will be provided after we receive your photo.\n\nDeadline: 5 PM on Wednesday\, May 28\n\nEVENT HIGHLIGHTS:\n\nAll day fun starting at 11:00 AM with Graduation festivities from 2:00 PM - 6:00 PM.\n\n  Free Entry Event\n\n  Sunday Funday Park Pass Deals\n\n  DJ from 2 PM   6 PM\n\n  Beach Games & Family-Friendly Fun\n\n  Food + Drinks available for purchase\n\nLEARN MORE: https://www.facebook.com/share/166dpL8Nnp/
X-ALT-DESC;FMTTYPE=text/html:<p>Start a <strong>NEW</strong> graduation tradition at Laguna&rsquo\;s!&nbsp\;Join us on the Tiki Deck on <strong>Sunday\, June 1st\,</strong>&nbsp\;for live music\, graduate shout-outs and more.</p>\n\n<p>&nbsp\;<strong>SHOUTOUT YOUR GRADUATE!</strong><br />\nCelebrate your graduate on the Big Screen for just&nbsp\;<br />\n$10 - Includes their name + photo on the Big Screen.<br />\n&nbsp\;Email your submission to:<strong> tiffanys@premierisland.com</strong><br />\n<em>* Payment details will be provided after we receive your photo.</em><br />\n<strong>Deadline: 5 PM on Wednesday\, May 28</strong></p>\n\n<p><strong>EVENT HIGHLIGHTS:</strong></p>\n\n<p>All day fun starting at 11:00 AM with Graduation festivities from 2:00 PM - 6:00 PM.</p>\n\n<p><em>&bull\; Free Entry Event</em></p>\n\n<p><em>&bull\; Sunday Funday Park Pass Deals</em></p>\n\n<p><em>&bull\; DJ from 2 PM &ndash\; 6 PM</em></p>\n\n<p><em>&bull\; Beach Games &amp\; Family-Friendly Fun</em></p>\n\n<p><em>&bull\; Food + Drinks available for purchase</em></p>\n\n<p><strong>LEARN MORE:&nbsp\;</strong><a href="https://www.facebook.com/share/166dpL8Nnp/" style="box-sizing: border-box\; background: transparent\; color: rgb(0\, 148\, 215)\; text-decoration-line: none\;">https://www.facebook.com/share/166dpL8Nnp/</a></p>\n\n<div>&nbsp\;</div>\n
LOCATION:
UID:e.2219.31224
SEQUENCE:3
DTSTAMP:20260419T163818Z
URL:https://business.gulfbreezechamber.com/events/details/laguna-s-graduation-party-31224
END:VEVENT

END:VCALENDAR
