BEGIN:VCALENDAR
VERSION:2.0
PRODID:-//ChamberMaster//Event Calendar 2.0//EN
METHOD:PUBLISH
X-PUBLISHED-TTL:P3D
REFRESH-INTERVAL:P3D
CALSCALE:GREGORIAN
BEGIN:VEVENT
DTSTART:20250629T150000Z
DTEND:20250630T030000Z
X-MICROSOFT-CDO-ALLDAYEVENT:FALSE
SUMMARY:Laguna's Locals Appreciation Day!
DESCRIPTION:Laguna's Locals Appreciation Day \n\nSunday\, June 29 | 10AM - 10PM\n\nWe love our locals! Come celebrate with us at Laguna's Locals Appreciation Day on Sunday\, June 29.\n\nEnjoy all-day fun with a $10 Locals Appreciation Day Pass. Just show your local ID to purchase. Plus\, there will be food specials throughout the day\, a live DJ\, games\, prizes and more!\n\n\n	 $10 Locals Day Pass   Play all day for just $10! (Must show your local ID to purchase.)\n	 Food Specials   Delicious bites and refreshing drinks all day long. (Available for purchase.)\n	TIKI DECK HAPPENINGS:\n	\n	 DJ: 12 PM   6 PM   Enjoy the beats and enter our hourly drawings! Every food & beverage order earns you a ticket   just drop it in the bucket at the DJ booth for your chance to win.\n	 Dance Party: 1 PM   Hit the deck and show off your best moves!\n	 Limbo Contest: 5 PM   How low can you go? Join in and find out!\n	 Open Decks: 8 PM   1 AM   Local DJs come out & show out with 20-minute sets on the Tiki Deck. (First come\, first serve.)\n\nSpecial Event: Stop by our Event Booth to learn about all our venues and special deals for locals   don't miss out!\n\nDon't miss out - We can't wait to see you there!\n\n Laguna's Beach Bar + Grill\n\n460 Pensacola Beach Blvd | LagunaSPB.com
X-ALT-DESC;FMTTYPE=text/html:<p><strong>Laguna&rsquo\;s Locals Appreciation Day&nbsp\;</strong><br />\n<em>Sunday\, June 29 | 10AM - 10PM</em></p>\n\n<p>We love our locals! Come celebrate with us at&nbsp\;<strong>Laguna&rsquo\;s Locals Appreciation Day on Sunday\, June 29</strong>.<br />\nEnjoy all-day fun with a $10 Locals Appreciation Day Pass. Just show your local ID to purchase. Plus\, there will be food specials throughout the day\, a live DJ\, games\, prizes and more!</p>\n\n<ul>\n	<li>&nbsp\;<strong>$10 Locals Day Pass</strong>&nbsp\;&mdash\;&nbsp\;<em>Play all day for just $10! (Must show your local ID to purchase.)</em></li>\n	<li><strong>&nbsp\;Food Specials</strong>&nbsp\;&mdash\;&nbsp\;<em>Delicious bites and refreshing drinks all day long. (Available for purchase.)</em>\n	<p><strong>TIKI DECK HAPPENINGS:</strong></p>\n	</li>\n	<li>&nbsp\;DJ: 12 PM &ndash\; 6 PM &mdash\; Enjoy the beats and enter our hourly drawings! Every food &amp\; beverage order earns you a ticket &mdash\; just drop it in the bucket at the DJ booth for your chance to win.</li>\n	<li>&nbsp\;Dance Party: 1 PM &mdash\; Hit the deck and show off your best moves!</li>\n	<li>&nbsp\;Limbo Contest: 5 PM &mdash\; How low can you go? Join in and find out!</li>\n	<li>&nbsp\;Open Decks: 8 PM &ndash\; 1 AM &mdash\; Local DJs come out &amp\; show out with 20-minute sets on the Tiki Deck. (First come\, first serve.)</li>\n</ul>\n<strong>Special Event:</strong> Stop by our Event Booth to learn about all our venues and special deals for locals &mdash\; don&rsquo\;t miss out!\n\n<p>Don&#39\;t miss out - We can&rsquo\;t wait to see you there!</p>\n\n<p>&nbsp\;Laguna&rsquo\;s Beach Bar + Grill<br />\n460 Pensacola Beach Blvd |&nbsp\;<a href="http://lagunaspb.com/?fbclid=IwZXh0bgNhZW0CMTAAYnJpZBExRkdNYVVMVmdUYTZvR1hYZwEeFTc1-iqcjVObYXZg4GVVqg53ybQLYgrUZKOjOFeuEpV2RRpskBMTz-RzMO8_aem_HS4EGPWqfep_fnN_faeZEw" style="box-sizing: border-box\; background: transparent\; color: rgb(0\, 148\, 215)\; text-decoration-line: none\;" target="_blank">LagunaSPB.com</a></p>\n\n<div>&nbsp\;</div>\n
LOCATION:
UID:e.2219.31457
SEQUENCE:3
DTSTAMP:20260419T182231Z
URL:https://business.gulfbreezechamber.com/events/details/laguna-s-locals-appreciation-day-31457
END:VEVENT

END:VCALENDAR
