BEGIN:VCALENDAR
VERSION:2.0
PRODID:-//ChamberMaster//Event Calendar 2.0//EN
METHOD:PUBLISH
X-PUBLISHED-TTL:P3D
REFRESH-INTERVAL:P3D
CALSCALE:GREGORIAN
BEGIN:VEVENT
DTSTART:20250427T010000Z
DTEND:20250427T063000Z
X-MICROSOFT-CDO-ALLDAYEVENT:FALSE
SUMMARY:Mac Miller Tribute at Laguna's
DESCRIPTION:Mac Miller fans! Join us for a very special tribute at Laguna's Beach Bar with Come Back To Earth on Saturday\, April 26th.\n\nEvent Doors open at 8 PM\n\n18+ event\n\nVIP PASSES INCLUDE - 2 hours all access park pass at the adventure park! 6pm-8pm early access.\n\nGET TICKETS: https://pimg.fyi/lagunas-mac-miller-tribute-tickets
X-ALT-DESC;FMTTYPE=text/html:<p><strong>Mac Miller fans! Join us for a very special tribute at Laguna&rsquo\;s Beach Bar with Come Back To Earth on Saturday\, April 26th.</strong></p>\n\n<p>Event Doors open at 8 PM<br />\n18+ event</p>\n\n<p><strong>VIP PASSES INCLUDE</strong> - 2 hours all access park pass at the adventure park! 6pm-8pm early access.</p>\n\n<p><strong>GET TICKETS: </strong><a class="text-blue-500 underline" href="https://pimg.fyi/lagunas-mac-miller-tribute-tickets" rel="noopener noreferrer nofollow" target="_blank"><strong>https://pimg.fyi/lagunas-mac-miller-tribute-tickets</strong></a></p>\n
LOCATION:
UID:e.2219.30923
SEQUENCE:3
DTSTAMP:20260419T181046Z
URL:https://business.gulfbreezechamber.com/events/details/mac-miller-tribute-at-laguna-s-30923
END:VEVENT

END:VCALENDAR
