BEGIN:VCALENDAR
VERSION:2.0
PRODID:-//ChamberMaster//Event Calendar 2.0//EN
METHOD:PUBLISH
X-PUBLISHED-TTL:P3D
REFRESH-INTERVAL:P3D
CALSCALE:GREGORIAN
BEGIN:VEVENT
DTSTART:20230511T130000Z
DTEND:20230511T170000Z
X-MICROSOFT-CDO-ALLDAYEVENT:FALSE
SUMMARY:May PSC Nonprofit Center Training: Human Resources
DESCRIPTION:A half-day nonprofit training from 8 AM to 12 PM covering the topic of Human Resources\, led by Brenda Kay Hammel\, Tammy Henderson\, GinNeal McVay\, and Mel Miner. $30 registration fee for non-members or half-price for members.
X-ALT-DESC;FMTTYPE=text/html:A half-day nonprofit training from 8 AM to 12 PM covering the topic of Human Resources\, led by Brenda Kay Hammel\, Tammy Henderson\, GinNeal McVay\, and Mel Miner. $30 registration fee for non-members or half-price for members.
LOCATION:1000 College Blvd.\, Bldg. 17\, Pensacola\, FL 32504
UID:e.2219.28711
SEQUENCE:3
DTSTAMP:20260421T102713Z
URL:https://business.gulfbreezechamber.com/events/details/may-psc-nonprofit-center-training-human-resources-28711
END:VEVENT

END:VCALENDAR
