BEGIN:VCALENDAR
VERSION:2.0
PRODID:-//ChamberMaster//Event Calendar 2.0//EN
METHOD:PUBLISH
X-PUBLISHED-TTL:P3D
REFRESH-INTERVAL:P3D
CALSCALE:GREGORIAN
BEGIN:VEVENT
DTSTART:20230915T130000Z
DTEND:20230915T170000Z
X-MICROSOFT-CDO-ALLDAYEVENT:FALSE
SUMMARY:Morning of Beauty- Aqua Medical Spa
DESCRIPTION:Join us for a Morning of Beauty on Friday\, September 15 at Aqua Medical Spa in Gulf Breeze! This event features $12/unit Botox and 20% off filler injected by board-certified dermatologist Dr. John Phillips. Limited appointments available from 8:00AM-12:00PM. Call (850) 733-5180 to schedule. Rules & restrictions apply. See staff or visit aquamedicalspa.com/specials-events/ for complete details.
X-ALT-DESC;FMTTYPE=text/html:Join us for a Morning of Beauty on Friday\, September 15 at Aqua Medical Spa in Gulf Breeze! This event features $12/unit Botox and 20% off filler injected by board-certified dermatologist Dr. John Phillips. Limited appointments available from 8:00AM-12:00PM. Call (850) 733-5180 to schedule. Rules &amp\; restrictions apply. See staff or visit aquamedicalspa.com/specials-events/ for complete details.
LOCATION:3089 Gulf Breeze Parkway Gulf Breeze\, FL
UID:e.2219.29023
SEQUENCE:3
DTSTAMP:20260420T022808Z
URL:https://business.gulfbreezechamber.com/events/details/morning-of-beauty-aqua-medical-spa-29023
END:VEVENT

END:VCALENDAR
