BEGIN:VCALENDAR
VERSION:2.0
PRODID:-//ChamberMaster//Event Calendar 2.0//EN
METHOD:PUBLISH
X-PUBLISHED-TTL:P3D
REFRESH-INTERVAL:P3D
CALSCALE:GREGORIAN
BEGIN:VEVENT
DTSTART:20260501T000000Z
DTEND:20260501T040000Z
X-MICROSOFT-CDO-ALLDAYEVENT:FALSE
SUMMARY:Neo Treo performing LIVE at Bamboo Willie's!
DESCRIPTION:Neo Treo performing LIVE at Bamboo Willie's!
X-ALT-DESC;FMTTYPE=text/html:Neo Treo performing LIVE at Bamboo Willie&#39\;s!
LOCATION:
UID:e.2219.32212
SEQUENCE:3
DTSTAMP:20260423T133210Z
URL:https://business.gulfbreezechamber.com/events/details/neo-treo-performing-live-at-bamboo-willie-s-04-30-2026-32212
END:VEVENT

END:VCALENDAR
