BEGIN:VCALENDAR
VERSION:2.0
PRODID:-//ChamberMaster//Event Calendar 2.0//EN
METHOD:PUBLISH
X-PUBLISHED-TTL:P3D
REFRESH-INTERVAL:P3D
CALSCALE:GREGORIAN
BEGIN:VEVENT
DTSTART:20230720T163000Z
DTEND:20230720T173000Z
X-MICROSOFT-CDO-ALLDAYEVENT:FALSE
SUMMARY:Networkings a Breeze
DESCRIPTION:Join us for this month's Networking's a Breeze luncheon\, Sponsored by A2Z Specialty Advertising and A Trusted Nurse  . This event is a lightly structured networking opportunity featuring a format that is ideal for building relationships. The event generally draws 20-25 attendees\, has a loyal following and is continuing to grow in popularity
X-ALT-DESC;FMTTYPE=text/html:<div data-memid="8386" style="float:left\;padding-top:2px\;padding-left:1px\;max-width:310px\;max-height:16px\;overflow: hidden\;color:#000000\;text-align: left\;" title="A2Z Specialty Advertising">&nbsp\;</div>\nJoin us for this month&#39\;s&nbsp\;Networking&#39\;s a Breeze luncheon\, Sponsored by<span style="font-size:14px\;"> </span><strong><span style="font-size:14px\;">A2Z Specialty Advertising</span> and <span style="font-size:14px\;">A Trusted Nurse&nbsp\;</span></strong> . This event is a lightly structured networking opportunity featuring a format that is ideal for building relationships. The event generally draws 20-25 attendees\, has a loyal following and is continuing to grow in popularity<br />\n&nbsp\;
LOCATION:Hampton Gulf Breeze 61 Gulf Breeze Parkway Gulf Breeze\, FL 32561
UID:e.2219.28449
SEQUENCE:3
DTSTAMP:20260420T041836Z
URL:https://business.gulfbreezechamber.com/events/details/networkings-a-breeze-07-20-2023-28449
END:VEVENT

END:VCALENDAR
