BEGIN:VCALENDAR
VERSION:2.0
PRODID:-//ChamberMaster//Event Calendar 2.0//EN
METHOD:PUBLISH
X-PUBLISHED-TTL:P3D
REFRESH-INTERVAL:P3D
CALSCALE:GREGORIAN
BEGIN:VEVENT
DTSTART:20250413T200000Z
DTEND:20250414T000000Z
X-MICROSOFT-CDO-ALLDAYEVENT:FALSE
SUMMARY:New Cahoots performing LIVE at Bamboo Willie’s!
DESCRIPTION:New Cahoots performing LIVE at Bamboo Willie's!
X-ALT-DESC;FMTTYPE=text/html:New Cahoots performing LIVE at Bamboo Willie&rsquo\;s!
LOCATION:
UID:e.2219.30943
SEQUENCE:3
DTSTAMP:20260419T181405Z
URL:https://business.gulfbreezechamber.com/events/details/new-cahoots-performing-live-at-bamboo-willie-s-04-13-2025-30943
END:VEVENT

END:VCALENDAR
