BEGIN:VCALENDAR
VERSION:2.0
PRODID:-//ChamberMaster//Event Calendar 2.0//EN
METHOD:PUBLISH
X-PUBLISHED-TTL:P3D
REFRESH-INTERVAL:P3D
CALSCALE:GREGORIAN
BEGIN:VEVENT
DTSTART:20230930T010000Z
DTEND:20230930T063000Z
X-MICROSOFT-CDO-ALLDAYEVENT:FALSE
SUMMARY:NITTI at Laguna's
DESCRIPTION:Friday\, September 29\, we're turning the heat up with world-renowned DJ\, NITTI\, at Laguna's Beach Bar + Grill on Pensacola Beach. Doors open at 8:00 pm. \n\nGet your tickets today: https://pimg.fyi/3QFORFu\n\n*Must be 18+ to attend.
X-ALT-DESC;FMTTYPE=text/html:<p>Friday\, September 29\, we&rsquo\;re turning the heat up with world-renowned DJ\, <strong>NITTI</strong>\, at Laguna&#39\;s Beach Bar + Grill on Pensacola Beach. Doors open at 8:00 pm.&nbsp\;</p>\n\n<p><strong>Get your tickets today:</strong>&nbsp\;https://pimg.fyi/3QFORFu</p>\n\n<p><em>*Must be 18+ to attend.</em></p>\n
LOCATION:Laguna's Beach Bar + Grill 460 Pensacola Beach Blvd Pensacola Beach\, FL 32561
UID:e.2219.29020
SEQUENCE:3
DTSTAMP:20260420T001151Z
URL:https://business.gulfbreezechamber.com/events/details/nitti-at-laguna-s-29020
END:VEVENT

END:VCALENDAR
