BEGIN:VCALENDAR
VERSION:2.0
PRODID:-//ChamberMaster//Event Calendar 2.0//EN
METHOD:PUBLISH
X-PUBLISHED-TTL:P3D
REFRESH-INTERVAL:P3D
CALSCALE:GREGORIAN
BEGIN:VEVENT
DTSTART:20231102T130000Z
DTEND:20231102T170000Z
X-MICROSOFT-CDO-ALLDAYEVENT:FALSE
SUMMARY:November PSC Nonprofit Center Training: Risk Management & Safety
DESCRIPTION:A half-day nonprofit training with instruction from 8 AM to 12 PM. Topic covered on this day is Risk Management and Safety\, led by Stephen Reyes and Saltmarsh\, Cleaveland and Gund. $30 registration fee for non-members or half-price for members.
X-ALT-DESC;FMTTYPE=text/html:A half-day nonprofit training with instruction from 8 AM to 12 PM. Topic covered on this day is Risk Management and Safety\, led by Stephen Reyes and Saltmarsh\, Cleaveland and Gund. $30 registration fee for non-members or half-price for members.
LOCATION:1000 College Blvd.\, Bldg. 17\, Pensacola\, FL 32504
UID:e.2219.28717
SEQUENCE:3
DTSTAMP:20260419T221612Z
URL:https://business.gulfbreezechamber.com/events/details/november-psc-nonprofit-center-training-risk-management-safety-28717
END:VEVENT

END:VCALENDAR
