BEGIN:VCALENDAR
VERSION:2.0
PRODID:-//ChamberMaster//Event Calendar 2.0//EN
METHOD:PUBLISH
X-PUBLISHED-TTL:P3D
REFRESH-INTERVAL:P3D
CALSCALE:GREGORIAN
BEGIN:VEVENT
DTSTART:20230401T140000Z
DTEND:20230401T170000Z
X-MICROSOFT-CDO-ALLDAYEVENT:FALSE
SUMMARY:Octane and Exotics
DESCRIPTION:Octane and Exotics hosted by Maserati Alfa Romeo Pensacola and Import Rally. Powered by Step One Automotive Group.\n\nOn Saturday\, April 1 st\, the best high-octane vehicles in the gulf coast will be on display at Octane and Exotics! The Coffee Guy will have coffee and hot chocolate and our DJ will be hyping up the crowd!\n\nCome see our Maserati MC-20 on the showroom floor and take a turn in our F1 race simulator!\n\nREGISTRATION IS OPEN!\n\nThis is a FREE EVENT for everyone! PLEASE RSVP YOUR RIDE at Car Show | ImportRally (speedzonefl.wixsite.com)For Parking Entry.
X-ALT-DESC;FMTTYPE=text/html:<p style="text-align:center">Octane and Exotics hosted by Maserati Alfa Romeo Pensacola and Import Rally. Powered by Step One Automotive Group.</p>\n\n<p style="text-align:center">On Saturday\, April 1 st\, the best high-octane vehicles in the gulf coast will be on display at Octane and Exotics! The Coffee Guy will have coffee and hot chocolate and our DJ will be hyping up the crowd!</p>\n\n<p style="text-align:center">Come see our Maserati MC-20 on the showroom floor and take a turn in our F1 race simulator!</p>\n\n<p style="text-align:center">REGISTRATION IS OPEN!<br />\nThis is a FREE EVENT for everyone! PLEASE RSVP YOUR RIDE at&nbsp\;<a href="https://speedzonefl.wixsite.com/importrally" style="color: rgb(195\, 0\, 49)\; box-sizing: border-box\; background: 0px 0px\; text-decoration-line: none\;">Car Show | ImportRally (speedzonefl.wixsite.com)</a>For Parking Entry.</p>\n
LOCATION:Maserati Alfa Romeo Pensacola 5600 Pensacola Boulevard ?Pensacola\, FL 32505
UID:e.2219.28658
SEQUENCE:3
DTSTAMP:20260421T123952Z
URL:https://business.gulfbreezechamber.com/events/details/octane-and-exotics-04-01-2023-28658
END:VEVENT

END:VCALENDAR
