BEGIN:VCALENDAR
VERSION:2.0
PRODID:-//ChamberMaster//Event Calendar 2.0//EN
METHOD:PUBLISH
X-PUBLISHED-TTL:P3D
REFRESH-INTERVAL:P3D
CALSCALE:GREGORIAN
BEGIN:VEVENT
DTSTART:20241020T150000Z
DTEND:20241021T010000Z
X-MICROSOFT-CDO-ALLDAYEVENT:FALSE
SUMMARY:Oktoberfest at Laguna's
DESCRIPTION:Grab your family & friends and join us for an Oktoberfest Weekend on Oct. 19th and Oct. 20th at Laguna's!\n\nWe've got tons of Oktoberfest festivities and family-friendly fun lined up you won't want to miss it! \n\nFESTIVE FUN:    \n\n\n	Park activities\n	Oktoberfest snacks & beer\n	Football viewing\n	Inflatables\n	Cotton candy\, popcorn\, and more!\n\n\nGet access to all the excitement with our 3-Hour Oktoberfest Park Pass for just $40 a perfect way to spend the weekend with your family!\n\nTickets are available at the ticket booth or online at https://pimg.fyi/lagunas-oktoberfest-tix-gbc.\n\n*Oktoberfest park pass pricing does not include any food or beverages. Food and beverage is sold separately.
X-ALT-DESC;FMTTYPE=text/html:<p>Grab your family &amp\; friends and join us for an&nbsp\;<strong>Oktoberfest Weekend</strong>&nbsp\;on&nbsp\;<strong>Oct. 19th and Oct. 20th</strong>&nbsp\;at Laguna&#39\;s!</p>\n\n<p>We&#39\;ve got tons of Oktoberfest festivities and family-friendly fun lined up&mdash\;you won&#39\;t want to miss it!&nbsp\;</p>\n\n<p><strong>FESTIVE FUN:&nbsp\;</strong>&nbsp\; &nbsp\;</p>\n\n<ul>\n	<li>Park activities</li>\n	<li>Oktoberfest snacks &amp\; beer</li>\n	<li>Football viewing</li>\n	<li>Inflatables</li>\n	<li>Cotton candy\, popcorn\, and more!</li>\n</ul>\n\n<p>Get access to all the excitement with our&nbsp\;<strong>3-Hour Oktoberfest Park Pass for just $40</strong>&mdash\;a perfect way to spend the weekend with your family!<br />\n<strong>Tickets</strong><span style="color:rgb(29\, 16\, 44)\; font-family:museo sans w01\,helvetica neue\,helvetica\,helvetica\,arial\,sans-serif\; font-size:14px">&nbsp\;are available at the ticket booth or online at&nbsp\;</span><a href="https://pimg.fyi/lagunas-oktoberfest-tix-gbc" style="text-decoration-line: none\;"><span style="background-color:transparent\; color:rgb(17\, 85\, 204)\; font-family:montserrat\,sans-serif\; font-size:11pt">https://pimg.fyi/lagunas-oktoberfest-tix-gbc</span></a>.</p>\n\n<p><em>*Oktoberfest park pass pricing does not include any food or beverages. Food and beverage is sold separately.</em></p>\n
LOCATION:Laguna's Beach Bar + Grill 460 Pensacola Beach Blvd Pensacola Beach\, FL 32561
UID:e.2219.30167
SEQUENCE:3
DTSTAMP:20260419T171759Z
URL:https://business.gulfbreezechamber.com/events/details/oktoberfest-at-laguna-s-30167
END:VEVENT

END:VCALENDAR
