BEGIN:VCALENDAR
VERSION:2.0
PRODID:-//ChamberMaster//Event Calendar 2.0//EN
METHOD:PUBLISH
X-PUBLISHED-TTL:P3D
REFRESH-INTERVAL:P3D
CALSCALE:GREGORIAN
BEGIN:VEVENT
DTSTART:20230804T010000Z
DTEND:20230804T045500Z
X-MICROSOFT-CDO-ALLDAYEVENT:FALSE
SUMMARY:Oliver Stoned trio performing LIVE at Bamboo Willie's!
DESCRIPTION:Oliver Stoned trio performing LIVE at Bamboo Willie's!
X-ALT-DESC;FMTTYPE=text/html:<span style="font-family:calibri\,sans-serif"><span style="font-size:11.0pt">Oliver Stoned trio performing LIVE at Bamboo Willie&#39\;s!</span></span>
LOCATION:
UID:e.2219.28996
SEQUENCE:3
DTSTAMP:20260420T042215Z
URL:https://business.gulfbreezechamber.com/events/details/oliver-stoned-trio-performing-live-at-bamboo-willie-s-28996
END:VEVENT

END:VCALENDAR
