BEGIN:VCALENDAR
VERSION:2.0
PRODID:-//ChamberMaster//Event Calendar 2.0//EN
METHOD:PUBLISH
X-PUBLISHED-TTL:P3D
REFRESH-INTERVAL:P3D
CALSCALE:GREGORIAN
BEGIN:VEVENT
DTSTART:20230422T130000Z
DTEND:20230422T220000Z
X-MICROSOFT-CDO-ALLDAYEVENT:FALSE
SUMMARY:Over the Edge benefiting the Arc Gateway
DESCRIPTION:Face your fears or feed your appetite for adrenaline as you rappel 11 stories from the Studer Community Institute building in Downtown Pensacola. Join us for this exhilarating experience\, raising funds to support The Arc Gateway's mission of empowering those with disabilities to live their very best life. If you are a person with intellectual and developmental disabilities\, you encounter adversities every day. You must have the courage to try many things that may not come easily to you. These individuals\, like the clients we serve throughout our community\, are the inspiration for this event. Minimum Donation to Rappel is $1\,000\, which you can give as an individual or organization\, or you can engage your friends and family members in crowdfunding and raise tens of thousands of dollars and take your support for The Arc Gateway to new heights! Sponsorships\, volunteer opportunities and registration details are available at www.OverTheEdgePensacola.org.
X-ALT-DESC;FMTTYPE=text/html:Face your fears or feed your appetite for adrenaline as you rappel 11 stories from the Studer Community Institute building in Downtown Pensacola. Join us for this exhilarating experience\, raising funds to support The Arc Gateway&#39\;s mission of empowering those with disabilities to live their very best life. If you are a person with intellectual and developmental disabilities\, you encounter adversities every day. You must have the courage to try many things that may not come easily to you. These individuals\, like the clients we serve throughout our community\, are the inspiration for this event. Minimum Donation to Rappel is $1\,000\, which you can give as an individual or organization\, or you can engage your friends and family members in crowdfunding and raise tens of thousands of dollars and take your support for The Arc Gateway to new heights! Sponsorships\, volunteer opportunities and registration details are available at www.OverTheEdgePensacola.org.
LOCATION:Studer Community Institute 220 W. Garden Street Pensacola\, FL 32502
UID:e.2219.28655
SEQUENCE:3
DTSTAMP:20260421T101938Z
URL:https://business.gulfbreezechamber.com/events/details/over-the-edge-benefiting-the-arc-gateway-28655
END:VEVENT

END:VCALENDAR
