BEGIN:VCALENDAR
VERSION:2.0
PRODID:-//ChamberMaster//Event Calendar 2.0//EN
METHOD:PUBLISH
X-PUBLISHED-TTL:P3D
REFRESH-INTERVAL:P3D
CALSCALE:GREGORIAN
BEGIN:VEVENT
DTSTART:20230817T140000Z
DTEND:20230817T153000Z
X-MICROSOFT-CDO-ALLDAYEVENT:FALSE
SUMMARY:Patents and the Patent Process
DESCRIPTION:Businesses often ask why they should patent their innovations and how they should begin to learn patent laws and procedures. This training discusses the rationale for the existence of patents\, patent qualifications\, and outlines the legal framework that governs patents. Presented by J Nevin Shaffer\, Jr.\, P.A.\, Florida Bar Board Certified Intellectual Property Law Specialist and licensed Patent Attorney.  To register\, visit sbdc.uwf.edu and open "Training & Events".  Sponsored by Cadence Bank and Wells Fargo.
X-ALT-DESC;FMTTYPE=text/html:<span style="font-size:14px"><span style="color:#3C4043">Businesses often ask why they should patent their innovations and how they should begin to learn patent laws and procedures. This training discusses the rationale for the existence of patents\, patent qualifications\, and outlines the legal framework that governs patents.</span> <span style="font-family:calibri\,sans-serif">Presented by J Nevin Shaffer\, Jr.\, P.A.\, <span style="color:#3C4043">Florida Bar Board Certified Intellectual Property Law Specialist and licensed Patent Attorney. </span><span style="color:#202124">&nbsp\;</span><span style="color:black">To register\, visit sbdc.uwf.edu and open &ldquo\;Training &amp\; Events&rdquo\;.&nbsp\; </span><span style="color:#222222">Sponsored by Cadence Bank and Wells Fargo.</span></span></span>
LOCATION:Greater Pensacola Chamber of Commerce\, 418 W. Garden St.\, CO:LAB Building\, 4th flr\, Pensacola\, FL 32501
UID:e.2219.28765
SEQUENCE:3
DTSTAMP:20260420T022110Z
URL:https://business.gulfbreezechamber.com/events/details/patents-and-the-patent-process-28765
END:VEVENT

END:VCALENDAR
