BEGIN:VCALENDAR
VERSION:2.0
PRODID:-//ChamberMaster//Event Calendar 2.0//EN
METHOD:PUBLISH
X-PUBLISHED-TTL:P3D
REFRESH-INTERVAL:P3D
CALSCALE:GREGORIAN
BEGIN:VEVENT
DTSTART:20250502T180000Z
DTEND:20250505T020000Z
X-MICROSOFT-CDO-ALLDAYEVENT:FALSE
SUMMARY:Pensacola Beach Crawfish Festival 2025
DESCRIPTION:The Pensacola Beach Crawfish Festival returns to Bamboo Willie's and the Pensacola Beach Boardwalk on May 2\, 2025 through May 4\, 2025. This year promises to be the best one yet and that is hard to believe after last year's unforgettable festival.\n\nNot only will you be able to get your fill of some flavorful (meaning spicy) crawfish but you will have the opportunity to watch some awesome live music performances from:\n\n \n\nFriday\, May 2\, 2025\n\n1:00 PM -3:00 PM: Brynne & Bones\n\n3:30 PM -5:30 PM: Sadie McClendon\n\n4:00 PM - 8:00 PM: Cheyenne & Matt [Shell]\n\n6:00 PM -8:00 PM: Shenanigans\n\n8:30 PM - midnight: Tyler and The Absolutes\n\nSaturday\, May 3\, 2025\n\n11:00 AM -1:00 PM: Bangarang Peter\n\n1:30 PM- 3:30 PM: Thin Ice\n\n4:00 PM - 7:00 PM: Swampland Revival\n\n4:00 PM - 8:00 PM : Neo Trio [Shell]\n\n8:00 PM - midnight: Count The Years\n\nSunday\, May 4\, 2025\n\n12:00 PM -2:00 PM: Jarred McConnell\n\n1:00 PM - 5:00 PM: Joey Collins Duo [Shell]\n\n2:30 PM -4:30 PM: Blue Levee\n\n5:00 PM - 9:00 PM: Class X
X-ALT-DESC;FMTTYPE=text/html:<div>The Pensacola Beach Crawfish Festival returns to Bamboo Willie&#39\;s and the Pensacola Beach Boardwalk on May 2\, 2025 through May 4\, 2025. This year promises to be the best one yet and that is hard to believe after last year&#39\;s unforgettable festival.</div>\n\n<div>Not only will you be able to get your fill of some flavorful (meaning spicy) crawfish but you will have the opportunity to watch some awesome live music performances from:</div>\n\n<div>&nbsp\;</div>\n\n<div>Friday\, May 2\, 2025<br />\n1:00 PM -3:00 PM: Brynne &amp\; Bones<br />\n3:30 PM -5:30 PM: Sadie McClendon<br />\n4:00 PM - 8:00 PM: Cheyenne &amp\; Matt [Shell]<br />\n6:00 PM -8:00 PM: Shenanigans<br />\n8:30 PM - midnight: Tyler and The Absolutes</div>\n\n<div>Saturday\, May 3\, 2025<br />\n11:00 AM -1:00 PM: Bangarang Peter<br />\n1:30 PM- 3:30 PM: Thin Ice<br />\n4:00 PM - 7:00 PM: Swampland Revival<br />\n4:00 PM - 8:00 PM : Neo Trio [Shell]<br />\n8:00 PM - midnight: Count The Years</div>\n\n<div>Sunday\, May 4\, 2025<br />\n12:00 PM -2:00 PM: Jarred McConnell<br />\n1:00 PM - 5:00 PM: Joey Collins Duo [Shell]<br />\n2:30 PM -4:30 PM: Blue Levee<br />\n5:00 PM - 9:00 PM: Class X</div>\n
LOCATION:
UID:e.2219.31174
SEQUENCE:3
DTSTAMP:20260419T134631Z
URL:https://business.gulfbreezechamber.com/events/details/pensacola-beach-crawfish-festival-2025-31174
END:VEVENT

END:VCALENDAR
