BEGIN:VCALENDAR
VERSION:2.0
PRODID:-//ChamberMaster//Event Calendar 2.0//EN
METHOD:PUBLISH
X-PUBLISHED-TTL:P3D
REFRESH-INTERVAL:P3D
CALSCALE:GREGORIAN
BEGIN:VEVENT
DTSTART:20230607T233500Z
DTEND:20230608T023000Z
X-MICROSOFT-CDO-ALLDAYEVENT:FALSE
SUMMARY:Pensacola Habitat for Humanity Takeover Night at Blue Wahoos Stadium
DESCRIPTION:Join Pensacola Habitat for Humanity\, our volunteers\, staff\, home buyers and homeowners as we takeover the Blue Wahoos stadium at their home game on Wednesday\, 6/7/2023. There will be goodies\, games\, and entertainment for the whole family! Not to mention\, the famous Wahoos fireworks show will happen after the 9th inning! All ticket proceeds directly benefits Pensacola Habitat for Humanity. You can choose to pick up your ticket(s) from our main office\, or choose for them to be mailed to you. We hope to see you there!
X-ALT-DESC;FMTTYPE=text/html:Join Pensacola Habitat for Humanity\, our volunteers\, staff\, home buyers and homeowners as we takeover the Blue Wahoos stadium at their home game on Wednesday\, 6/7/2023. There will be goodies\, games\, and entertainment for the whole family! Not to mention\, the famous Wahoos fireworks show will happen after the 9th inning! All ticket proceeds directly benefits Pensacola Habitat for Humanity. You can choose to pick up your ticket(s) from our main office\, or choose for them to be mailed to you. We hope to see you there!
LOCATION:Blue Wahoos Stadium: 351 W Cedar St\, Pensacola\, FL 32502
UID:e.2219.28718
SEQUENCE:3
DTSTAMP:20260421T120732Z
URL:https://business.gulfbreezechamber.com/events/details/pensacola-habitat-for-humanity-takeover-night-at-blue-wahoos-stadium-28718
END:VEVENT

END:VCALENDAR
