BEGIN:VCALENDAR
VERSION:2.0
PRODID:-//ChamberMaster//Event Calendar 2.0//EN
METHOD:PUBLISH
X-PUBLISHED-TTL:P3D
REFRESH-INTERVAL:P3D
CALSCALE:GREGORIAN
BEGIN:VEVENT
DTSTART:20230923T010000Z
DTEND:20230923T045500Z
X-MICROSOFT-CDO-ALLDAYEVENT:FALSE
SUMMARY:Pop Fiction performing LIVE at Bamboo Willie’s!
DESCRIPTION:High energy performance of popular music
X-ALT-DESC;FMTTYPE=text/html:&nbsp\;&nbsp\;&nbsp\;&nbsp\;&nbsp\;&nbsp\;&nbsp\;&nbsp\;&nbsp\;&nbsp\;&nbsp\;&nbsp\;&nbsp\;&nbsp\;&nbsp\; <span style="color:#65676B"><span style="font-family:segoe ui historic\,sans-serif"><span style="font-size:10.0pt">High energy performance of popular music</span></span></span>
LOCATION:Bamboo Willie's
UID:e.2219.29041
SEQUENCE:3
DTSTAMP:20260420T022343Z
URL:https://business.gulfbreezechamber.com/events/details/pop-fiction-performing-live-at-bamboo-willie-s-09-22-2023-29041
END:VEVENT

END:VCALENDAR
