BEGIN:VCALENDAR
VERSION:2.0
PRODID:-//ChamberMaster//Event Calendar 2.0//EN
METHOD:PUBLISH
X-PUBLISHED-TTL:P3D
REFRESH-INTERVAL:P3D
CALSCALE:GREGORIAN
BEGIN:VEVENT
DTSTART:20250412T010000Z
DTEND:20250412T045500Z
X-MICROSOFT-CDO-ALLDAYEVENT:FALSE
SUMMARY:Project Nine performing LIVE at Bamboo Willie’s!
DESCRIPTION:Project Nine performing LIVE at Bamboo Willie's!
X-ALT-DESC;FMTTYPE=text/html:<span style="color:black"><span style="font-size:10.0pt">Project Nine performing LIVE at Bamboo Willie&rsquo\;s!</span></span>
LOCATION:
UID:e.2219.30940
SEQUENCE:3
DTSTAMP:20260419T180840Z
URL:https://business.gulfbreezechamber.com/events/details/project-nine-performing-live-at-bamboo-willie-s-30940
END:VEVENT

END:VCALENDAR
