BEGIN:VCALENDAR
VERSION:2.0
PRODID:-//ChamberMaster//Event Calendar 2.0//EN
METHOD:PUBLISH
X-PUBLISHED-TTL:P3D
REFRESH-INTERVAL:P3D
CALSCALE:GREGORIAN
BEGIN:VEVENT
DTSTART:20250517T150000Z
DTEND:20250517T160000Z
X-MICROSOFT-CDO-ALLDAYEVENT:FALSE
SUMMARY:PSC Charter Academy Information Session
DESCRIPTION:Learn more about the Pensacola State College Charter Academy! Are you ready to learn more about an incredible educational opportunity? Join us at one of our information sessions to discover how students in grades 9-12 can earn a high school diploma AND college credits simultaneously for FREE! Through our dual enrollment program\, students pay no cost for tuition\, books\, or technology including a free laptop! Only 75 seats are available per grade level\, so secure your spot before it's too late. Parents and students\, come learn how to set yourself up for a successful future!
X-ALT-DESC;FMTTYPE=text/html:Learn more about the Pensacola State College Charter Academy! Are you ready to learn more about an incredible educational opportunity? Join us at one of our information sessions to discover how students in grades 9-12 can earn a high school diploma AND college credits simultaneously&mdash\;for FREE! Through our dual enrollment program\, students pay no cost for tuition\, books\, or technology&mdash\;including a free laptop! Only 75 seats are available per grade level\, so secure your spot before it&#39\;s too late. Parents and students\, come learn how to set yourself up for a successful future!
LOCATION:1000 College Blvd\, Pensacola\, FL 32504 Building 11 Room 1101
UID:e.2219.31192
SEQUENCE:3
DTSTAMP:20260419T163643Z
URL:https://business.gulfbreezechamber.com/events/details/psc-charter-academy-information-session-31192
END:VEVENT

END:VCALENDAR
