BEGIN:VCALENDAR
VERSION:2.0
PRODID:-//ChamberMaster//Event Calendar 2.0//EN
METHOD:PUBLISH
X-PUBLISHED-TTL:P3D
REFRESH-INTERVAL:P3D
CALSCALE:GREGORIAN
BEGIN:VEVENT
DTSTART:20230603T010000Z
DTEND:20230603T045500Z
X-MICROSOFT-CDO-ALLDAYEVENT:FALSE
SUMMARY:Redline Superstar performing LIVE at Bamboo Willie's!
DESCRIPTION:High energy Rock/Pop cover band.
X-ALT-DESC;FMTTYPE=text/html:<span style="color:#050505"><span style="font-family:segoe ui historic\,sans-serif"><span style="font-size:11.5pt">High energy Rock/Pop cover band.</span></span></span>
LOCATION:Bamboo Willie's
UID:e.2219.28738
SEQUENCE:3
DTSTAMP:20260421T120339Z
URL:https://business.gulfbreezechamber.com/events/details/redline-superstar-performing-live-at-bamboo-willie-s-28738
END:VEVENT

END:VCALENDAR
