BEGIN:VCALENDAR
VERSION:2.0
PRODID:-//ChamberMaster//Event Calendar 2.0//EN
METHOD:PUBLISH
X-PUBLISHED-TTL:P3D
REFRESH-INTERVAL:P3D
CALSCALE:GREGORIAN
BEGIN:VEVENT
DTSTART:20230929T160000Z
DTEND:20230929T170000Z
X-MICROSOFT-CDO-ALLDAYEVENT:FALSE
SUMMARY:RIBBON CUTTING: Feeding the Gulf Coast Expansion
DESCRIPTION:Feeding the Gulf Coast is unveiling its volunteer space donated by Navy Federal Credit Union. We are dedicating this space in honor of their 4\,000 hours of volunteerism. The event will be from 11am to 12pm\, scissors will hit the ribbon at 11:20.
X-ALT-DESC;FMTTYPE=text/html:Feeding the Gulf Coast is unveiling its volunteer space donated by Navy Federal Credit Union. We are dedicating this space in honor of their 4\,000 hours of volunteerism. The event will be from 11am to 12pm\, scissors will hit the ribbon at 11:20.&nbsp\;
LOCATION:Feeding the Gulf Coast 5709 Industrial Blvd. Milton\, FL 32583
UID:e.2219.29049
SEQUENCE:3
DTSTAMP:20260420T022523Z
URL:https://business.gulfbreezechamber.com/events/details/ribbon-cutting-feeding-the-gulf-coast-expansion-29049
END:VEVENT

END:VCALENDAR
