BEGIN:VCALENDAR
VERSION:2.0
PRODID:-//ChamberMaster//Event Calendar 2.0//EN
METHOD:PUBLISH
X-PUBLISHED-TTL:P3D
REFRESH-INTERVAL:P3D
CALSCALE:GREGORIAN
BEGIN:VEVENT
DTSTART:20230810T160000Z
DTEND:20230810T170000Z
X-MICROSOFT-CDO-ALLDAYEVENT:FALSE
SUMMARY:RIBBON CUTTING: Nonie's Place
DESCRIPTION:Celebrate the grand opening of Nonie's Place\, a brand new children's grief house by Covenant Care. The ribbon cutting will take place on Thursday\, August 10th at 11:30 a.m. The entire open house is from 11:00   1:00 p.m. We invite you to enjoy lunch and the tours as well. The location is 1901 N. Palafox Pensacola\, FL 32501. This is a joint event with the Gulf Breeze Area and Greater Pensacola Chambers.
X-ALT-DESC;FMTTYPE=text/html:Celebrate the grand opening of Nonie&#39\;s Place\, a brand new children&#39\;s grief house by Covenant Care. The ribbon cutting will take place on&nbsp\;<span style="font-family:calibri\,sans-serif\;"><span style="font-size:11.0pt\;">Thursday\, <strong>August 10<sup>th</sup> at 11:30 a.m.</strong> The entire open house is from 11:00 &ndash\; 1:00 p.m. We invite you to enjoy lunch and the tours as well. The location is 1901 N. Palafox Pensacola\, FL 32501. This is a joint event with the Gulf Breeze Area and Greater Pensacola Chambers.&nbsp\;</span></span>
LOCATION:1901 N Palafox\, Pensacola
UID:e.2219.29016
SEQUENCE:3
DTSTAMP:20260420T022218Z
URL:https://business.gulfbreezechamber.com/events/details/ribbon-cutting-nonie-s-place-29016
END:VEVENT

END:VCALENDAR
