BEGIN:VCALENDAR
VERSION:2.0
PRODID:-//ChamberMaster//Event Calendar 2.0//EN
METHOD:PUBLISH
X-PUBLISHED-TTL:P3D
REFRESH-INTERVAL:P3D
CALSCALE:GREGORIAN
BEGIN:VEVENT
DTSTART:20230921T200000Z
DTEND:20230921T203000Z
X-MICROSOFT-CDO-ALLDAYEVENT:FALSE
SUMMARY:RIBBON CUTTING: Smoke Studio
DESCRIPTION:Join us in celebrating new business Smoke Studio! This ribbon cutting ceremony will be held at Smoke Studio located at 3045 Gulf Breeze Parkway. This event is open to all chamber members and the public.
X-ALT-DESC;FMTTYPE=text/html:Join us in celebrating new business Smoke Studio! This ribbon cutting ceremony will be held at Smoke Studio located at 3045 Gulf Breeze Parkway. This event is open to all chamber members and the public.
LOCATION:3045 Gulf Breeze Parkway\, Gulf Breeze\, FL
UID:e.2219.29051
SEQUENCE:3
DTSTAMP:20260420T001144Z
URL:https://business.gulfbreezechamber.com/events/details/ribbon-cutting-smoke-studio-29051
END:VEVENT

END:VCALENDAR
