BEGIN:VCALENDAR
VERSION:2.0
PRODID:-//ChamberMaster//Event Calendar 2.0//EN
METHOD:PUBLISH
X-PUBLISHED-TTL:P3D
REFRESH-INTERVAL:P3D
CALSCALE:GREGORIAN
BEGIN:VEVENT
DTSTART:20230916T120000Z
DTEND:20230916T180000Z
X-MICROSOFT-CDO-ALLDAYEVENT:FALSE
SUMMARY:Rock4vet 5k Run & Walk
DESCRIPTION:Get Ready to run\, walk rock and roll for a great cause. Our Rock4vets 5k Run/Walk fundraiser is set to be a day of non-stop fun and entertainment\, all in support of our local veterans. Early Registration is $35 Regular $40 and day of $45. $10 to enter event for non participants and kids under 12 are free. We can't wait to see you there!
X-ALT-DESC;FMTTYPE=text/html:Get Ready to run\, walk rock and roll for a great cause. Our Rock4vets 5k Run/Walk fundraiser is set to be a day of non-stop fun and entertainment\, all in support of our local veterans. Early Registration is $35 Regular $40 and day of $45. $10 to enter event for non participants and kids under 12 are free. We can&#39\;t wait to see you there!
LOCATION:Maritime Park 301 w Main St. Pensacola\, FL 32501 Race/Walk starts along the water.
UID:e.2219.28984
SEQUENCE:3
DTSTAMP:20260420T001304Z
URL:https://business.gulfbreezechamber.com/events/details/rock4vet-5k-run-walk-28984
END:VEVENT

END:VCALENDAR
