BEGIN:VCALENDAR
VERSION:2.0
PRODID:-//ChamberMaster//Event Calendar 2.0//EN
METHOD:PUBLISH
X-PUBLISHED-TTL:P3D
REFRESH-INTERVAL:P3D
CALSCALE:GREGORIAN
BEGIN:VEVENT
DTSTART:20250505T150000Z
DTEND:20250509T200000Z
X-MICROSOFT-CDO-ALLDAYEVENT:FALSE
SUMMARY:Rose Lawn Funeral Home & Cemetery - Honoring Mothers & Grandmothers
DESCRIPTION:Honoring Mothers & Grandmothers \n\nMay 5 9\, 2025 | 10 AM   3 PM\n\nRose Lawn Funeral Home & Cemetery | Gulf Breeze\, Florida\n\nAs Mother's Day approaches\, we invite you to join us in a quiet moment of remembrance and love. From May 5th through May 9th\, please stop by Rose Lawn Funeral Home and Cemetery between 10 AM and 3 PM to receive a complimentary flower and prayer card\, offered with our deepest sympathy.\n\nYou are welcome to lay your flower with a loved one resting here\, or take it home as a tender tribute to a mother or grandmother who holds a special place in your heart.\n\nLet this small gesture be a reminder: love never fades\, and the memories we carry are eternal.\n\nWith care\,\n\nRose Lawn Funeral Home & Cemetery
X-ALT-DESC;FMTTYPE=text/html:<div><strong>Honoring Mothers &amp\; Grandmothers&nbsp\;</strong></div>\n\n<div><strong>May 5&ndash\;9\, 2025 | 10 AM &ndash\; 3 PM</strong><br />\n<strong>Rose Lawn Funeral Home &amp\; Cemetery | Gulf Breeze\, Florida</strong></div>\n\n<div>As Mother&rsquo\;s Day approaches\, we invite you to join us in a quiet moment of remembrance and love. From&nbsp\;<strong>May 5th through May 9th</strong>\, please stop by&nbsp\;<strong>Rose Lawn Funeral Home and Cemetery</strong>&nbsp\;between&nbsp\;<strong>10 AM and 3 PM</strong>&nbsp\;to receive a&nbsp\;<strong>complimentary flower and prayer card</strong>\, offered with our deepest sympathy.</div>\n\n<div>You are welcome to lay your flower with a loved one resting here\, or take it home as a tender tribute to a mother or grandmother who holds a special place in your heart.</div>\n\n<div>Let this small gesture be a reminder: love never fades\, and the memories we carry are eternal.</div>\n\n<div>With care\,<br />\n<em>Rose Lawn Funeral Home &amp\; Cemetery</em></div>\n\n<div>&nbsp\;</div>\n
LOCATION:Rose Lawn Funeral Home & Cemetery 2942 Gulf Breeze Pkwy Gulf Breeze\, FL 32563
UID:e.2219.31156
SEQUENCE:3
DTSTAMP:20260419T164521Z
URL:https://business.gulfbreezechamber.com/events/details/rose-lawn-funeral-home-cemetery-honoring-mothers-grandmothers-31156
END:VEVENT

END:VCALENDAR
