BEGIN:VCALENDAR
VERSION:2.0
PRODID:-//ChamberMaster//Event Calendar 2.0//EN
METHOD:PUBLISH
X-PUBLISHED-TTL:P3D
REFRESH-INTERVAL:P3D
CALSCALE:GREGORIAN
BEGIN:VEVENT
DTSTART:20250428T170000Z
DTEND:20250428T190000Z
X-MICROSOFT-CDO-ALLDAYEVENT:FALSE
SUMMARY:Rose Lawn Funeral Home & Cemetery Lunch & Learn At Pedros Tacos & Tequila Bar
DESCRIPTION:Come enjoy lunch with us and learn about the end-of-life planning you need to do now in order to protect your family in the future.\n\n\n\nSeating will be limited to the FIRST 25 people.\n\n\n\nYou want to protect your loved ones from pain and doubt during a time of loss\, but you may not know where to start.  During this informative session\, you will have the chance to learn about advance funeral planning options and how these decisions can help your loved ones at a time of loss. You will also learn how to avoid mistakes families sometimes make during times of grief.  With the knowledge gained\, you can make decisions you feel good about today and bring peace to your family when they need it most.\n\n\n\nAdvanced registration is required to assist us in preparations. Please call 850-932-9192 to make a reservation as there is limited seating.
X-ALT-DESC;FMTTYPE=text/html:Come enjoy lunch with us and learn about the end-of-life planning you need to do now in order to protect your family in the future.<br />\n<br />\nSeating will be limited to the FIRST 25 people.<br />\n<br />\nYou want to protect your loved ones from pain and doubt during a time of loss\, but you may not know where to start.&nbsp\; During this informative session\, you will have the chance to learn about advance funeral planning options and how these decisions can help your loved ones at a time of loss. You will also learn how to avoid mistakes families sometimes make during times of grief.&nbsp\; With the knowledge gained\, you can make decisions you feel good about today and bring peace to your family when they need it most.<br />\n<br />\nAdvanced registration is required to assist us in preparations. Please call 850-932-9192 to make a reservation as there is limited seating.<br />\n&nbsp\;
LOCATION:Pedros Tacos & Tequila Bar 3095 Gulf Breeze Pkwy Gulf Breeze\, FL 32563
UID:e.2219.31151
SEQUENCE:3
DTSTAMP:20260419T182847Z
URL:https://business.gulfbreezechamber.com/events/details/rose-lawn-funeral-home-cemetery-lunch-learn-at-pedros-tacos-tequila-bar-31151
END:VEVENT

END:VCALENDAR
