BEGIN:VCALENDAR
VERSION:2.0
PRODID:-//ChamberMaster//Event Calendar 2.0//EN
METHOD:PUBLISH
X-PUBLISHED-TTL:P3D
REFRESH-INTERVAL:P3D
CALSCALE:GREGORIAN
BEGIN:VEVENT
DTSTART:20230922T160000Z
DTEND:20230922T170000Z
X-MICROSOFT-CDO-ALLDAYEVENT:FALSE
SUMMARY:Scooter's Coffee Grand Opening and Ribbon Cutting
DESCRIPTION:Scooter's Coffee Grand Opening
X-ALT-DESC;FMTTYPE=text/html:Scooter&#39\;s Coffee Grand Opening
LOCATION:122 Gulf Breeze Parkway Gulf Breeze\, FL 32561
UID:e.2219.29019
SEQUENCE:3
DTSTAMP:20260420T002122Z
URL:https://business.gulfbreezechamber.com/events/details/scooter-s-coffee-grand-opening-and-ribbon-cutting-29019
END:VEVENT

END:VCALENDAR
