BEGIN:VCALENDAR
VERSION:2.0
PRODID:-//ChamberMaster//Event Calendar 2.0//EN
METHOD:PUBLISH
X-PUBLISHED-TTL:P3D
REFRESH-INTERVAL:P3D
CALSCALE:GREGORIAN
BEGIN:VEVENT
DTSTART:20230907T130000Z
DTEND:20230907T170000Z
X-MICROSOFT-CDO-ALLDAYEVENT:FALSE
SUMMARY:September PSC Nonprofit Center Training: Volunteer/Intern Management
DESCRIPTION:A half-day nonprofit training from 8 AM to 12 PM covering the topic of Volunteer and Intern Management\, led by Volunteer Florida. $30 registration fee for non-members\, half-price for members.
X-ALT-DESC;FMTTYPE=text/html:A half-day nonprofit training from 8 AM to 12 PM covering the topic of Volunteer and Intern Management\, led by Volunteer Florida. $30 registration fee for non-members\, half-price for members.
LOCATION:1000 College Blvd.\, Bldg. 17\, Pensacola\, FL 32504
UID:e.2219.28715
SEQUENCE:3
DTSTAMP:20260420T001532Z
URL:https://business.gulfbreezechamber.com/events/details/september-psc-nonprofit-center-training-volunteer-intern-management-28715
END:VEVENT

END:VCALENDAR
