BEGIN:VCALENDAR
VERSION:2.0
PRODID:-//ChamberMaster//Event Calendar 2.0//EN
METHOD:PUBLISH
X-PUBLISHED-TTL:P3D
REFRESH-INTERVAL:P3D
CALSCALE:GREGORIAN
BEGIN:VEVENT
DTSTART:20241207T020000Z
DTEND:20241207T055500Z
X-MICROSOFT-CDO-ALLDAYEVENT:FALSE
SUMMARY:Shenanigans performing LIVE at Bamboo Willie’s!
DESCRIPTION:Shenanigans performing LIVE at Bamboo Willie's!\n\n\n\nLighted Boat Parade @6:30
X-ALT-DESC;FMTTYPE=text/html:Shenanigans performing LIVE at Bamboo Willie&rsquo\;s!<br />\n<br />\nLighted Boat Parade @6:30
LOCATION:
UID:e.2219.30331
SEQUENCE:3
DTSTAMP:20260420T022217Z
URL:https://business.gulfbreezechamber.com/events/details/shenanigans-performing-live-at-bamboo-willie-s-12-06-2024-30331
END:VEVENT

END:VCALENDAR
